{"text_format":"3","workbook":"xlsx","n_sheets":12,"sheets":["ЮНОШИ - (ООШ) (Ст.Н.)","Дев. - (ООШ) (Ст.Н.)","ДЕВ - (СОШ) (Ст.Н.)","ЮНОШИ - (СОШ) (Ст.Н.)","БОШ-ЮНОШИ - Личники","БОШ-Итог (Юноши)","БОШ-Девушки - Личники","БОШ-Итог (Дев.)","ЮНОШИ - (СОШ)","ДЕВ - (СОШ)","ЮНОШИ - (ООШ)","Дев. - (ООШ)"],"not_rendered":{"defined_names":2},"read":"whole","date_system":"1900"}

{"sheet":"ЮНОШИ - (ООШ) (Ст.Н.)","index":0,"n_rows":12,"n_cols":8,"rows_kept":12,"merged":[[0,1,0,6],[1,1,1,6],[2,5,2,6]]}
[null,"Протокол по легкоатлетическому кроссу в рамках \"Старты надежд\""]
[null,"ОСНОВНЫЕ школы"]
[null,"18.09.2024",{"$nulls":3},"ЮНОШИ - 1000 м."]
[]
["№ п/п","Фамилия, и.о.","Нагр-й номер","Школа","Старт","Финиш","Место","ОЧКИ"]
[1,"Галиуллин Юсуф",50,"МБОУ «Малосуньская ООШ»","00:00:00","3.40.08",1,{"$f":"IF(G6=1,50,IF(G6=2,47,IF(G6=3,44,IF(G6=4,42,IF(G6=5,40,IF(G6=6,38,IF(G6=7,37,IF(G6=8,36,IF(G6=9,35,IF(G6=10,34,IF(G6=11,33,IF(G6=12,32,IF(G6=13,31,IF(G6=14,30,IF(G6=15,29,IF(G6=16,28,IF(G6=17,27,IF(G6=18,26,IF(G6=19,25,IF(G6=20,24,IF(G6=21,23,IF(G6=22,22,IF(G6=23,21,IF(G6=24,20,IF(G6=25,19,IF(G6=26,18,IF(G6=27,17,IF(G6=28,16,IF(G6=29,15,IF(G6=30,14,IF(G6=31,13,IF(G6=32,12,IF(G6=33,11,IF(G6=34,10,IF(G6=35,9,IF(G6=36,8,IF(G6=37,7,IF(G6=38,6,IF(G6=39,5,IF(G6=40,4,IF(G6=41,3,IF(G6=42,2,IF(G6=43,1,IF(G6=0,0,IF(G6>43,1,IF(G6=0,))))))))))))))))))))))))))))))))))))))))))))))","v":50}]
[2,"Хазиев Амир",49,"МБОУ «Кемеш-Кульская ООШ»","00:00:00","3.56.27",2,47]
[3,"Шестеркин Егор",23,"МБОУ «Омарская СОШ»","00:00:00","4.09.25",3,44]
[4,"Антонов Эмильян",25,"ГБОУ «Мамадышская школа-интернат»","00:00:00","4.14.76",4,42]
[]
[null,"Главный судья: Мухаметзянов И.И."]
[null,"Главный секретарь: Платонов В.И."]

{"sheet":"Дев. - (ООШ) (Ст.Н.)","index":1,"n_rows":12,"n_cols":8,"rows_kept":12,"merged":[[0,1,0,6],[1,1,1,6]]}
[null,"Протокол по легкоатлетическому кроссу в рамках \"Старты надежд\""]
[null,"ОСНОВНЫЕ школы"]
[null,"18.09.2024",{"$nulls":3},"ДЕВУШКИ - 500 м."]
[]
["№ п/п","Фамилия, и.о.","Нагр-й номер","Школа","Старт","Финиш","Место","ОЧКИ"]
[1,"Салахова Нурзиля",50,"МБОУ «Малосуньская ООШ»","00:00:00","1.42.48",1,{"$f":"IF(G6=1,50,IF(G6=2,47,IF(G6=3,44,IF(G6=4,42,IF(G6=5,40,IF(G6=6,38,IF(G6=7,37,IF(G6=8,36,IF(G6=9,35,IF(G6=10,34,IF(G6=11,33,IF(G6=12,32,IF(G6=13,31,IF(G6=14,30,IF(G6=15,29,IF(G6=16,28,IF(G6=17,27,IF(G6=18,26,IF(G6=19,25,IF(G6=20,24,IF(G6=21,23,IF(G6=22,22,IF(G6=23,21,IF(G6=24,20,IF(G6=25,19,IF(G6=26,18,IF(G6=27,17,IF(G6=28,16,IF(G6=29,15,IF(G6=30,14,IF(G6=31,13,IF(G6=32,12,IF(G6=33,11,IF(G6=34,10,IF(G6=35,9,IF(G6=36,8,IF(G6=37,7,IF(G6=38,6,IF(G6=39,5,IF(G6=40,4,IF(G6=41,3,IF(G6=42,2,IF(G6=43,1,IF(G6=0,0,IF(G6>43,1,IF(G6=0,))))))))))))))))))))))))))))))))))))))))))))))","v":50}]
[2,"Закиева Зухра",49,"МБОУ «Кемеш-Кульская ООШ»","00:00:00","1.57.95",2,47]
[3,"Фоминова Алена ",41,"ГБОУ «Мамадышская школа-интернат»","00:00:00","2.01.75",3,44]
[4,"Мартынова Марина",21,"МБОУ «Омарская СОШ»","00:00:00","2.04.65",4,42]
[]
[null,"Главный судья: Мухаметзянов И.И."]
[null,"Главный секретарь: Платонов В.И."]

{"sheet":"ДЕВ - (СОШ) (Ст.Н.)","index":2,"n_rows":21,"n_cols":8,"rows_kept":21,"merged":[[0,1,0,6],[1,1,1,6]]}
[null,"Протокол по легкоатлетическому кроссу в рамках \"Старты надежд\""]
[null,"СЕЛЬСКИЕ школы"]
[null,"18.09.2024",{"$nulls":3},"ДЕВУШКИ - 500 м."]
[]
["№ п/п","Фамилия, и.о.","Нагрудной номер","Школа","Старт","Финиш","Место","ОЧКИ"]
[1,"Мингазова Рузиля",24,"МБОУ «Шадчинская СОШ»","00:00:00","1.36.24",1,{"$f":"IF(G6=1,50,IF(G6=2,47,IF(G6=3,44,IF(G6=4,42,IF(G6=5,40,IF(G6=6,38,IF(G6=7,37,IF(G6=8,36,IF(G6=9,35,IF(G6=10,34,IF(G6=11,33,IF(G6=12,32,IF(G6=13,31,IF(G6=14,30,IF(G6=15,29,IF(G6=16,28,IF(G6=17,27,IF(G6=18,26,IF(G6=19,25,IF(G6=20,24,IF(G6=21,23,IF(G6=22,22,IF(G6=23,21,IF(G6=24,20,IF(G6=25,19,IF(G6=26,18,IF(G6=27,17,IF(G6=28,16,IF(G6=29,15,IF(G6=30,14,IF(G6=31,13,IF(G6=32,12,IF(G6=33,11,IF(G6=34,10,IF(G6=35,9,IF(G6=36,8,IF(G6=37,7,IF(G6=38,6,IF(G6=39,5,IF(G6=40,4,IF(G6=41,3,IF(G6=42,2,IF(G6=43,1,IF(G6=0,0,IF(G6>43,1,IF(G6=0,))))))))))))))))))))))))))))))))))))))))))))))","v":50}]
[2,"Домнина Розанна",27,"МБОУ «Нижнесуньская СОШ»","00:00:00","1.38.81",2,47]
[3,"Вятская Лиана",28,"МБОУ «Зюринская СОШ»","00:00:00","1.44.36",3,44]
[4,"Очилова Азалия",37,"МБОУ «Тавельская СОШ»","00:00:00","1.45.00",4,42]
[5,"Фатихова Камиля",30,"МБОУ «Нижнеошминская СОШ»","00:00:00","1.46.80",5,40]
[6,"Гаптрахимова Зиля",21,"МБОУ «Нижнеякинская СОШ»","00:00:00","1.50.96",6,38]
[7,"Григорьева Кристина",16,"МБОУ «Дюсьметьевская СОШ»","00:00:00","1.55.01",7,37]
[8,"Рюмочкина Милана",12,"МБОУ «Зверосовхозская СОШ»","00:00:00","1.58.20",8,36]
[9,"Лопанова Екатерина",33,"МБОУ «Кляушская СОШ»","00:00:00","2.00.59",9,35]
[10,"Гайнуллина Дина",36,"МБОУ «Таканышская СОШ»","00:00:00","2.02.40",10,34]
[11,"Садикова Алина",14,"МБОУ «Куюк-Ерыксинская СОШ»","00:00:00","2.02.92",11,33]
[12,"Максимова Валерия",39,"МБОУ «Сокольская СОШ»","00:00:00","2.03.05",12,32]
[13,"Мубаракшина Алиса",40,"МБОУ «Олуязский лицей»","00:00:00","2.11.09",13,31]
[]
[null,"Главный судья: Мухаметзянов И.И."]
[null,"Главный секретарь: Платонов В.И."]

{"sheet":"ЮНОШИ - (СОШ) (Ст.Н.)","index":3,"n_rows":22,"n_cols":9,"rows_kept":22,"merged":[[0,1,0,7],[1,1,1,7],[2,5,2,7]]}
[null,"Протокол по легкоатлетическому кроссу в рамках \"Старты надежд\""]
[null,"СЕЛЬСКИЕ школы"]
[null,"18.09.2024",{"$nulls":3},"ЮНОШИ - 1000 м."]
[]
["№ п/п","Фамилия, и.о.","Нагрудной номер","Школа","Старт","Финиш","Резуль-таты","Место","ОЧКИ"]
[1,"Ахметзянов Булат",21,"МБОУ «Нижнеошминская СОШ»","00:00:00","03:12:16",{"$f":"F6-E6","v":"03:12:16"},1,{"$f":"IF(H6=1,50,IF(H6=2,47,IF(H6=3,44,IF(H6=4,42,IF(H6=5,40,IF(H6=6,38,IF(H6=7,37,IF(H6=8,36,IF(H6=9,35,IF(H6=10,34,IF(H6=11,33,IF(H6=12,32,IF(H6=13,31,IF(H6=14,30,IF(H6=15,29,IF(H6=16,28,IF(H6=17,27,IF(H6=18,26,IF(H6=19,25,IF(H6=20,24,IF(H6=21,23,IF(H6=22,22,IF(H6=23,21,IF(H6=24,20,IF(H6=25,19,IF(H6=26,18,IF(H6=27,17,IF(H6=28,16,IF(H6=29,15,IF(H6=30,14,IF(H6=31,13,IF(H6=32,12,IF(H6=33,11,IF(H6=34,10,IF(H6=35,9,IF(H6=36,8,IF(H6=37,7,IF(H6=38,6,IF(H6=39,5,IF(H6=40,4,IF(H6=41,3,IF(H6=42,2,IF(H6=43,1,IF(H6=0,0,IF(H6>43,1,IF(H6=0,))))))))))))))))))))))))))))))))))))))))))))))","v":50}]
[2,"Сергеев Сергей",24,"МБОУ «Шадчинская СОШ»","00:00:00","3.16.98","3.16.98",2,47]
[3,"Нургалиев Ильнур",23,"МБОУ «Усалинская СОШ»","00:00:00","3.17.81","3.17.81",3,44]
[4,"Ганиев Раяз",41,"МБОУ «Олуязский лицей»","00:00:00","3.23.84","3.23.84",4,42]
[5,"Будылин Антон",19,"МБОУ «Тавельская СОШ»","00:00:00","03:25:23",{"$f":"F10-E10","v":"03:25:23"},5,40]
[6,"Пустобаев Кирилл",42,"МБОУ «Сокольская СОШ»","00:00:00","3.39.73","3.39.73",6,38]
[7,"Лопанов Вадим",22,"МБОУ «Кляушская СОШ»","00:00:00","03:43:40",{"$f":"F12-E12","v":"03:43:40"},7,37]
[8,"Ганеев Анвар",17,"МБОУ «Нижнесуньская СОШ»","00:00:00","03:45:31",{"$f":"F13-E13","v":"03:45:31"},8,36]
[9,"Хабибуллин Ильназ",37,"МБОУ «Зверосовхозская СОШ»","00:00:00","3.50.60","3.50.60",9,35]
[10,"Петров Роман",35,"МБОУ «Дюсьметьевская СОШ»","00:00:00","3.51.89","3.51.89",10,34]
[11,"Ахметгалеев Данил",36,"МБОУ «Нижнеякинская СОШ»","00:00:00","4.01.83","4.01.83",11,33]
[12,"Яппаров Ильяс",25,"МБОУ «Таканышская СОШ»","00:00:00","04:10:38",{"$f":"F17-E17","v":"04:10:38"},12,32]
[13,"Абузаров Ильназ",12,"МБОУ «Зюринская СОШ»","00:00:00","4.10.96","4.10.96",13,31]
[14,"Гараев Айрат",33,"МБОУ «Куюк-Ерыксинская СОШ»","00:00:00","07:25:14",{"$f":"F19-E19","v":"07:25:14"},14,30]
[]
[null,"Главный судья: Мухаметзянов И.И."]
[null,"Главный секретарь: Платонов В.И."]

{"sheet":"БОШ-ЮНОШИ - Личники","index":4,"n_rows":19,"n_cols":9,"rows_kept":19,"merged":[[0,1,0,7],[1,1,1,7],[2,5,2,7]]}
[null,"Протокол по легкоатлетическому кроссу в рамках \"Старты надежд\""]
[null,"Базовые школы"]
[null,"18.09.2024",{"$nulls":3},"ЮНОШИ - 1000 м."]
[]
["№ п/п","Фамилия, и.о.","Нагр-й номер","Школа","Старт","Финиш","Резуль-таты","Место","ОЧКИ"]
[1,"Сафаргалиев Замир",29,"МБОУ «СОШ №1»","00:00:00","3.49.63","3.49.63",10,{"$f":"IF(H6=1,50,IF(H6=2,47,IF(H6=3,44,IF(H6=4,42,IF(H6=5,40,IF(H6=6,38,IF(H6=7,37,IF(H6=8,36,IF(H6=9,35,IF(H6=10,34,IF(H6=11,33,IF(H6=12,32,IF(H6=13,31,IF(H6=14,30,IF(H6=15,29,IF(H6=16,28,IF(H6=17,27,IF(H6=18,26,IF(H6=19,25,IF(H6=20,24,IF(H6=21,23,IF(H6=22,22,IF(H6=23,21,IF(H6=24,20,IF(H6=25,19,IF(H6=26,18,IF(H6=27,17,IF(H6=28,16,IF(H6=29,15,IF(H6=30,14,IF(H6=31,13,IF(H6=32,12,IF(H6=33,11,IF(H6=34,10,IF(H6=35,9,IF(H6=36,8,IF(H6=37,7,IF(H6=38,6,IF(H6=39,5,IF(H6=40,4,IF(H6=41,3,IF(H6=42,2,IF(H6=43,1,IF(H6=0,0,IF(H6>43,1,IF(H6=0,))))))))))))))))))))))))))))))))))))))))))))))","v":34}]
[2,"Обманов Артемий",30,"МБОУ «СОШ №1»","00:00:00","03:41:24",{"$f":"F7-E7","v":"03:41:24"},9,35]
[3,"Мухаметзянов Тимур",12,"МБОУ «Лицей№2»","00:00:00","03:07:44","03:07:44",3,44]
[4,"Хуснутдинов Инсаф",19,"МБОУ «Лицей№2»","00:00:00","03:10:58","03:10:58",4,42]
[5,"Ахметшин Марат",18,"МБОУ «СОШ №3»","00:00:00","03:19:54","03:19:54",7,37]
[6,"Гуня Данилл",14,"МБОУ «СОШ №3»","00:00:00","03:16:43","03:16:43",5,40]
[7,"Хадеев Даниль",33,"МБОУ «СОШ №4»","00:00:00","03:00:42","03:00:42",{"$f":"RANK(G12,G$6:G$15,1)","v":1},50]
[8,"Ханов Раниль",17,"МБОУ «СОШ №4»","00:00:00","3.02.89","3.02.89",2,47]
[9,"Васильев Данил",26,"ГАПОУ «Мамадышский ПК»","00:00:00","03:22:17",{"$f":"F14-E14","v":"03:22:17"},8,36]
[10,"Сергин Максим",24,"ГАПОУ «Мамадышский ПК»","00:00:00","3.18.71","3.18.71",6,38]
[]
[null,"Главный судья: ______________________________"]
[null,"Главный судья: Мухаметзянов И.И."]
[null,"Главный секретарь: Платонов В.И."]

{"sheet":"БОШ-Итог (Юноши)","index":5,"n_rows":18,"n_cols":8,"rows_kept":18,"merged":[[0,0,0,10],[1,1,1,9],[2,5,2,6],[5,5,6,5],[5,6,6,6],[5,7,6,7],[7,5,8,5],[7,6,8,6],[7,7,8,7],[9,5,10,5],[9,6,10,6],[9,7,10,7],[11,5,12,5],[11,6,12,6],[11,7,12,7],[13,5,14,5],[13,6,14,6],[13,7,14,7]]}
["Итоговый протокол  по легкоатлетическому кроссу  в рамках \"Старты надежд\""]
[null,"Базовые школы                                                            ЮНОШИ - 1000 м."]
[null,"18.09.2024"]
[]
["№ п/п","Фамилия, и.о.","Нагрудной номер","Школа","очки","Сумма очков","Место","ОЧКИ \"Ст. над.\""]
[1,{"$f":"'БОШ-ЮНОШИ - Личники'!B6","v":"Сафаргалиев Замир"},{"$f":"'БОШ-ЮНОШИ - Личники'!C6","v":29},{"$f":"'БОШ-ЮНОШИ - Личники'!D6","v":"МБОУ «СОШ №1»"},{"$f":"'БОШ-ЮНОШИ - Личники'!I6","v":34},{"$f":"'БОШ-ЮНОШИ - Личники'!I6+'БОШ-ЮНОШИ - Личники'!I7","v":69},{"$f":"RANK(F6,F$6:F$15,)","v":5},{"$f":"IF(G6=1,50,IF(G6=2,47,IF(G6=3,44,IF(G6=4,42,IF(G6=5,40,IF(G6=6,38,IF(G6=7,37,IF(G6=8,36,IF(G6=9,35,IF(G6=10,34,IF(G6=11,33,IF(G6=12,32,IF(G6=13,31,IF(G6=14,30,IF(G6=15,29,IF(G6=16,28,IF(G6=17,27,IF(G6=18,26,IF(G6=19,25,IF(G6=20,24,IF(G6=21,23,IF(G6=22,22,IF(G6=23,21,IF(G6=24,20,IF(G6=25,19,IF(G6=26,18,IF(G6=27,17,IF(G6=28,16,IF(G6=29,15,IF(G6=30,14,IF(G6=31,13,IF(G6=32,12,IF(G6=33,11,IF(G6=34,10,IF(G6=35,9,IF(G6=36,8,IF(G6=37,7,IF(G6=38,6,IF(G6=39,5,IF(G6=40,4,IF(G6=41,3,IF(G6=42,2,IF(G6=43,1,IF(G6=0,0,IF(G6>43,1,IF(G6=0,))))))))))))))))))))))))))))))))))))))))))))))","v":40}]
[2,{"$f":"'БОШ-ЮНОШИ - Личники'!B7","v":"Обманов Артемий"},{"$f":"'БОШ-ЮНОШИ - Личники'!C7","v":30},{"$f":"'БОШ-ЮНОШИ - Личники'!D7","v":"МБОУ «СОШ №1»"},{"$f":"'БОШ-ЮНОШИ - Личники'!I7","v":35}]
[3,{"$f":"'БОШ-ЮНОШИ - Личники'!B8","v":"Мухаметзянов Тимур"},{"$f":"'БОШ-ЮНОШИ - Личники'!C8","v":12},{"$f":"'БОШ-ЮНОШИ - Личники'!D8","v":"МБОУ «Лицей№2»"},{"$f":"'БОШ-ЮНОШИ - Личники'!I8","v":44},{"$f":"'БОШ-ЮНОШИ - Личники'!I8+'БОШ-ЮНОШИ - Личники'!I9","v":86},{"$f":"RANK(F8,F$6:F$15,)","v":2},{"$f":"IF(G8=1,50,IF(G8=2,47,IF(G8=3,44,IF(G8=4,42,IF(G8=5,40,IF(G8=6,38,IF(G8=7,37,IF(G8=8,36,IF(G8=9,35,IF(G8=10,34,IF(G8=11,33,IF(G8=12,32,IF(G8=13,31,IF(G8=14,30,IF(G8=15,29,IF(G8=16,28,IF(G8=17,27,IF(G8=18,26,IF(G8=19,25,IF(G8=20,24,IF(G8=21,23,IF(G8=22,22,IF(G8=23,21,IF(G8=24,20,IF(G8=25,19,IF(G8=26,18,IF(G8=27,17,IF(G8=28,16,IF(G8=29,15,IF(G8=30,14,IF(G8=31,13,IF(G8=32,12,IF(G8=33,11,IF(G8=34,10,IF(G8=35,9,IF(G8=36,8,IF(G8=37,7,IF(G8=38,6,IF(G8=39,5,IF(G8=40,4,IF(G8=41,3,IF(G8=42,2,IF(G8=43,1,IF(G8=0,0,IF(G8>43,1,IF(G8=0,))))))))))))))))))))))))))))))))))))))))))))))","v":47}]
[4,{"$f":"'БОШ-ЮНОШИ - Личники'!B9","v":"Хуснутдинов Инсаф"},{"$f":"'БОШ-ЮНОШИ - Личники'!C9","v":19},{"$f":"'БОШ-ЮНОШИ - Личники'!D9","v":"МБОУ «Лицей№2»"},{"$f":"'БОШ-ЮНОШИ - Личники'!I9","v":42}]
[5,{"$f":"'БОШ-ЮНОШИ - Личники'!B10","v":"Ахметшин Марат"},{"$f":"'БОШ-ЮНОШИ - Личники'!C10","v":18},{"$f":"'БОШ-ЮНОШИ - Личники'!D10","v":"МБОУ «СОШ №3»"},{"$f":"'БОШ-ЮНОШИ - Личники'!I10","v":37},{"$f":"'БОШ-ЮНОШИ - Личники'!I10+'БОШ-ЮНОШИ - Личники'!I11","v":77},{"$f":"RANK(F10,F$6:F$15,)","v":3},{"$f":"IF(G10=1,50,IF(G10=2,47,IF(G10=3,44,IF(G10=4,42,IF(G10=5,40,IF(G10=6,38,IF(G10=7,37,IF(G10=8,36,IF(G10=9,35,IF(G10=10,34,IF(G10=11,33,IF(G10=12,32,IF(G10=13,31,IF(G10=14,30,IF(G10=15,29,IF(G10=16,28,IF(G10=17,27,IF(G10=18,26,IF(G10=19,25,IF(G10=20,24,IF(G10=21,23,IF(G10=22,22,IF(G10=23,21,IF(G10=24,20,IF(G10=25,19,IF(G10=26,18,IF(G10=27,17,IF(G10=28,16,IF(G10=29,15,IF(G10=30,14,IF(G10=31,13,IF(G10=32,12,IF(G10=33,11,IF(G10=34,10,IF(G10=35,9,IF(G10=36,8,IF(G10=37,7,IF(G10=38,6,IF(G10=39,5,IF(G10=40,4,IF(G10=41,3,IF(G10=42,2,IF(G10=43,1,IF(G10=0,0,IF(G10>43,1,IF(G10=0,))))))))))))))))))))))))))))))))))))))))))))))","v":44}]
[6,{"$f":"'БОШ-ЮНОШИ - Личники'!B11","v":"Гуня Данилл"},{"$f":"'БОШ-ЮНОШИ - Личники'!C11","v":14},{"$f":"'БОШ-ЮНОШИ - Личники'!D11","v":"МБОУ «СОШ №3»"},{"$f":"'БОШ-ЮНОШИ - Личники'!I11","v":40}]
[7,{"$f":"'БОШ-ЮНОШИ - Личники'!B12","v":"Хадеев Даниль"},{"$f":"'БОШ-ЮНОШИ - Личники'!C12","v":33},{"$f":"'БОШ-ЮНОШИ - Личники'!D12","v":"МБОУ «СОШ №4»"},{"$f":"'БОШ-ЮНОШИ - Личники'!I12","v":50},{"$f":"'БОШ-ЮНОШИ - Личники'!I12+'БОШ-ЮНОШИ - Личники'!I13","v":97},{"$f":"RANK(F12,F$6:F$15,)","v":1},{"$f":"IF(G12=1,50,IF(G12=2,47,IF(G12=3,44,IF(G12=4,42,IF(G12=5,40,IF(G12=6,38,IF(G12=7,37,IF(G12=8,36,IF(G12=9,35,IF(G12=10,34,IF(G12=11,33,IF(G12=12,32,IF(G12=13,31,IF(G12=14,30,IF(G12=15,29,IF(G12=16,28,IF(G12=17,27,IF(G12=18,26,IF(G12=19,25,IF(G12=20,24,IF(G12=21,23,IF(G12=22,22,IF(G12=23,21,IF(G12=24,20,IF(G12=25,19,IF(G12=26,18,IF(G12=27,17,IF(G12=28,16,IF(G12=29,15,IF(G12=30,14,IF(G12=31,13,IF(G12=32,12,IF(G12=33,11,IF(G12=34,10,IF(G12=35,9,IF(G12=36,8,IF(G12=37,7,IF(G12=38,6,IF(G12=39,5,IF(G12=40,4,IF(G12=41,3,IF(G12=42,2,IF(G12=43,1,IF(G12=0,0,IF(G12>43,1,IF(G12=0,))))))))))))))))))))))))))))))))))))))))))))))","v":50}]
[8,{"$f":"'БОШ-ЮНОШИ - Личники'!B13","v":"Ханов Раниль"},{"$f":"'БОШ-ЮНОШИ - Личники'!C13","v":17},{"$f":"'БОШ-ЮНОШИ - Личники'!D13","v":"МБОУ «СОШ №4»"},{"$f":"'БОШ-ЮНОШИ - Личники'!I13","v":47}]
[9,{"$f":"'БОШ-ЮНОШИ - Личники'!B14","v":"Васильев Данил"},{"$f":"'БОШ-ЮНОШИ - Личники'!C14","v":26},{"$f":"'БОШ-ЮНОШИ - Личники'!D14","v":"ГАПОУ «Мамадышский ПК»"},{"$f":"'БОШ-ЮНОШИ - Личники'!I14","v":36},{"$f":"'БОШ-ЮНОШИ - Личники'!I14+'БОШ-ЮНОШИ - Личники'!I15","v":74},{"$f":"RANK(F14,F$6:F$15,)","v":4},{"$f":"IF(G14=1,50,IF(G14=2,47,IF(G14=3,44,IF(G14=4,42,IF(G14=5,40,IF(G14=6,38,IF(G14=7,37,IF(G14=8,36,IF(G14=9,35,IF(G14=10,34,IF(G14=11,33,IF(G14=12,32,IF(G14=13,31,IF(G14=14,30,IF(G14=15,29,IF(G14=16,28,IF(G14=17,27,IF(G14=18,26,IF(G14=19,25,IF(G14=20,24,IF(G14=21,23,IF(G14=22,22,IF(G14=23,21,IF(G14=24,20,IF(G14=25,19,IF(G14=26,18,IF(G14=27,17,IF(G14=28,16,IF(G14=29,15,IF(G14=30,14,IF(G14=31,13,IF(G14=32,12,IF(G14=33,11,IF(G14=34,10,IF(G14=35,9,IF(G14=36,8,IF(G14=37,7,IF(G14=38,6,IF(G14=39,5,IF(G14=40,4,IF(G14=41,3,IF(G14=42,2,IF(G14=43,1,IF(G14=0,0,IF(G14>43,1,IF(G14=0,))))))))))))))))))))))))))))))))))))))))))))))","v":42}]
[10,{"$f":"'БОШ-ЮНОШИ - Личники'!B15","v":"Сергин Максим"},{"$f":"'БОШ-ЮНОШИ - Личники'!C15","v":24},{"$f":"'БОШ-ЮНОШИ - Личники'!D15","v":"ГАПОУ «Мамадышский ПК»"},{"$f":"'БОШ-ЮНОШИ - Личники'!I15","v":38}]
[null,{"$f":"'БОШ-ЮНОШИ - Личники'!#REF!","v":{"$error":"#REF!"}},{"$f":"'БОШ-ЮНОШИ - Личники'!#REF!","v":{"$error":"#REF!"}},null,{"$f":"'БОШ-ЮНОШИ - Личники'!I16","v":{"v":0,"d":"0.00"}}]
[null,"Главный судья: Мухаметзянов И.И."]
[null,"Главный секретарь: Платонов В.И."]

{"sheet":"БОШ-Девушки - Личники","index":6,"n_rows":19,"n_cols":9,"rows_kept":19,"merged":[[0,1,0,7],[1,1,1,7],[2,5,2,7]]}
[null,"Протокол по легкоатлетическому кроссу в рамках \"Старты надежд\""]
[null,"Базовые школы"]
[null,"18.09.2024",{"$nulls":3},"ДЕВУШКИ - 500 м."]
[]
["№ п/п","Фамилия, и.о.","Нагр-й номер","Школа","Старт","Финиш","Резуль-таты","Место","ОЧКИ"]
[1,"Зиннатова Фарида",26,"МБОУ «СОШ №1»","00:00:00","1.52:70","1.52.70",8,{"$f":"IF(H6=1,50,IF(H6=2,47,IF(H6=3,44,IF(H6=4,42,IF(H6=5,40,IF(H6=6,38,IF(H6=7,37,IF(H6=8,36,IF(H6=9,35,IF(H6=10,34,IF(H6=11,33,IF(H6=12,32,IF(H6=13,31,IF(H6=14,30,IF(H6=15,29,IF(H6=16,28,IF(H6=17,27,IF(H6=18,26,IF(H6=19,25,IF(H6=20,24,IF(H6=21,23,IF(H6=22,22,IF(H6=23,21,IF(H6=24,20,IF(H6=25,19,IF(H6=26,18,IF(H6=27,17,IF(H6=28,16,IF(H6=29,15,IF(H6=30,14,IF(H6=31,13,IF(H6=32,12,IF(H6=33,11,IF(H6=34,10,IF(H6=35,9,IF(H6=36,8,IF(H6=37,7,IF(H6=38,6,IF(H6=39,5,IF(H6=40,4,IF(H6=41,3,IF(H6=42,2,IF(H6=43,1,IF(H6=0,0,IF(H6>43,1,IF(H6=0,))))))))))))))))))))))))))))))))))))))))))))))","v":36}]
[2,"Петрова Диана",29,"МБОУ «СОШ №1»","00:00:00","1.46.82","1.46.82",7,37]
[3,"Бастринина Дарья",19,"МБОУ «Лицей№2»","00:00:00","01:42:15",{"$f":"F8-E8","v":"01:42:15"},{"$f":"RANK(G8,G$6:G$15,1)","v":5},40]
[4,"Расулова Амина",17,"МБОУ «Лицей№2»","00:00:00","1.43.69","1.43.69",6,38]
[5,"Гасимова Дарина",14,"МБОУ «СОШ №3»","00:00:00","1.39.94","1.39.94",4,42]
[6,"Краснова Елена",12,"МБОУ «СОШ №3»","00:00:00","01:34:14",{"$f":"F11-E11","v":"01:34:14"},1,50]
[7,"Антонова Амина",21,"МБОУ «СОШ №4»","00:00:00","01:35:31",{"$f":"F12-E12","v":"01:35:31"},2,47]
[8,"Антонова Лиана",22,"МБОУ «СОШ №4»","00:00:00","01:35:32",{"$f":"F13-E13","v":"01:35:32"},3,44]
[9,"Ялалова Нурида",25,"ГАПОУ «Мамадышский ПК»","00:00:00","1.56.88","1.56.88",9,40]
[10,null,null,"ГАПОУ «Мамадышский ПК»","00:00:00","00:00:00","00:00:00",0,{"$f":"IF(H15=1,50,IF(H15=2,47,IF(H15=3,44,IF(H15=4,42,IF(H15=5,40,IF(H15=6,38,IF(H15=7,37,IF(H15=8,36,IF(H15=9,35,IF(H15=10,34,IF(H15=11,33,IF(H15=12,32,IF(H15=13,31,IF(H15=14,30,IF(H15=15,29,IF(H15=16,28,IF(H15=17,27,IF(H15=18,26,IF(H15=19,25,IF(H15=20,24,IF(H15=21,23,IF(H15=22,22,IF(H15=23,21,IF(H15=24,20,IF(H15=25,19,IF(H15=26,18,IF(H15=27,17,IF(H15=28,16,IF(H15=29,15,IF(H15=30,14,IF(H15=31,13,IF(H15=32,12,IF(H15=33,11,IF(H15=34,10,IF(H15=35,9,IF(H15=36,8,IF(H15=37,7,IF(H15=38,6,IF(H15=39,5,IF(H15=40,4,IF(H15=41,3,IF(H15=42,2,IF(H15=43,1,IF(H15=0,0,IF(H15>43,1,IF(H15=0,))))))))))))))))))))))))))))))))))))))))))))))","v":0}]
[]
[null,"Главный судья: ______________________________"]
[null,"Главный судья: Мухаметзянов И.И."]
[null,"Главный секретарь: Платонов В.И."]

{"sheet":"БОШ-Итог (Дев.)","index":7,"n_rows":18,"n_cols":8,"rows_kept":18,"merged":[[0,0,0,10],[1,1,1,9],[2,5,2,6],[5,5,6,5],[5,6,6,6],[5,7,6,7],[7,5,8,5],[7,6,8,6],[7,7,8,7],[9,5,10,5],[9,6,10,6],[9,7,10,7],[11,5,12,5],[11,6,12,6],[11,7,12,7],[13,5,14,5],[13,6,14,6],[13,7,14,7]]}
["Итоговый протокол  по легкоатлетическому кроссу  в рамках \"Старты надежд\""]
[null,"Базовые школы                                                            ДЕВУШКИ - 500 м."]
[null,"18.09.2024"]
[]
["№ п/п","Фамилия, и.о.","Нагрудной номер","Школа","очки","Сумма очков","Место","ОЧКИ \"Ст. над.\""]
[1,{"$f":"'БОШ-Девушки - Личники'!B6","v":"Зиннатова Фарида"},{"$f":"'БОШ-Девушки - Личники'!C6","v":26},{"$f":"'БОШ-Девушки - Личники'!D6","v":"МБОУ «СОШ №1»"},{"$f":"'БОШ-Девушки - Личники'!I6","v":36},{"$f":"'БОШ-Девушки - Личники'!I6+'БОШ-Девушки - Личники'!I7","v":73},{"$f":"RANK(F6,F$6:F$15,)","v":4},{"$f":"IF(G6=1,50,IF(G6=2,47,IF(G6=3,44,IF(G6=4,42,IF(G6=5,40,IF(G6=6,38,IF(G6=7,37,IF(G6=8,36,IF(G6=9,35,IF(G6=10,34,IF(G6=11,33,IF(G6=12,32,IF(G6=13,31,IF(G6=14,30,IF(G6=15,29,IF(G6=16,28,IF(G6=17,27,IF(G6=18,26,IF(G6=19,25,IF(G6=20,24,IF(G6=21,23,IF(G6=22,22,IF(G6=23,21,IF(G6=24,20,IF(G6=25,19,IF(G6=26,18,IF(G6=27,17,IF(G6=28,16,IF(G6=29,15,IF(G6=30,14,IF(G6=31,13,IF(G6=32,12,IF(G6=33,11,IF(G6=34,10,IF(G6=35,9,IF(G6=36,8,IF(G6=37,7,IF(G6=38,6,IF(G6=39,5,IF(G6=40,4,IF(G6=41,3,IF(G6=42,2,IF(G6=43,1,IF(G6=0,0,IF(G6>43,1,IF(G6=0,))))))))))))))))))))))))))))))))))))))))))))))","v":42}]
[2,{"$f":"'БОШ-Девушки - Личники'!B7","v":"Петрова Диана"},{"$f":"'БОШ-Девушки - Личники'!C7","v":29},{"$f":"'БОШ-Девушки - Личники'!D7","v":"МБОУ «СОШ №1»"},{"$f":"'БОШ-Девушки - Личники'!I7","v":37}]
[3,{"$f":"'БОШ-Девушки - Личники'!B8","v":"Бастринина Дарья"},{"$f":"'БОШ-Девушки - Личники'!C8","v":19},{"$f":"'БОШ-Девушки - Личники'!D8","v":"МБОУ «Лицей№2»"},{"$f":"'БОШ-Девушки - Личники'!I8","v":40},{"$f":"'БОШ-Девушки - Личники'!I8+'БОШ-Девушки - Личники'!I9","v":78},{"$f":"RANK(F8,F$6:F$15,)","v":3},{"$f":"IF(G8=1,50,IF(G8=2,47,IF(G8=3,44,IF(G8=4,42,IF(G8=5,40,IF(G8=6,38,IF(G8=7,37,IF(G8=8,36,IF(G8=9,35,IF(G8=10,34,IF(G8=11,33,IF(G8=12,32,IF(G8=13,31,IF(G8=14,30,IF(G8=15,29,IF(G8=16,28,IF(G8=17,27,IF(G8=18,26,IF(G8=19,25,IF(G8=20,24,IF(G8=21,23,IF(G8=22,22,IF(G8=23,21,IF(G8=24,20,IF(G8=25,19,IF(G8=26,18,IF(G8=27,17,IF(G8=28,16,IF(G8=29,15,IF(G8=30,14,IF(G8=31,13,IF(G8=32,12,IF(G8=33,11,IF(G8=34,10,IF(G8=35,9,IF(G8=36,8,IF(G8=37,7,IF(G8=38,6,IF(G8=39,5,IF(G8=40,4,IF(G8=41,3,IF(G8=42,2,IF(G8=43,1,IF(G8=0,0,IF(G8>43,1,IF(G8=0,))))))))))))))))))))))))))))))))))))))))))))))","v":44}]
[4,{"$f":"'БОШ-Девушки - Личники'!B9","v":"Расулова Амина"},{"$f":"'БОШ-Девушки - Личники'!C9","v":17},{"$f":"'БОШ-Девушки - Личники'!D9","v":"МБОУ «Лицей№2»"},{"$f":"'БОШ-Девушки - Личники'!I9","v":38}]
[5,{"$f":"'БОШ-Девушки - Личники'!B10","v":"Гасимова Дарина"},{"$f":"'БОШ-Девушки - Личники'!C10","v":14},{"$f":"'БОШ-Девушки - Личники'!D10","v":"МБОУ «СОШ №3»"},{"$f":"'БОШ-Девушки - Личники'!I10","v":42},{"$f":"'БОШ-Девушки - Личники'!I10+'БОШ-Девушки - Личники'!I11","v":92},{"$f":"RANK(F10,F$6:F$15,)","v":1},{"$f":"IF(G10=1,50,IF(G10=2,47,IF(G10=3,44,IF(G10=4,42,IF(G10=5,40,IF(G10=6,38,IF(G10=7,37,IF(G10=8,36,IF(G10=9,35,IF(G10=10,34,IF(G10=11,33,IF(G10=12,32,IF(G10=13,31,IF(G10=14,30,IF(G10=15,29,IF(G10=16,28,IF(G10=17,27,IF(G10=18,26,IF(G10=19,25,IF(G10=20,24,IF(G10=21,23,IF(G10=22,22,IF(G10=23,21,IF(G10=24,20,IF(G10=25,19,IF(G10=26,18,IF(G10=27,17,IF(G10=28,16,IF(G10=29,15,IF(G10=30,14,IF(G10=31,13,IF(G10=32,12,IF(G10=33,11,IF(G10=34,10,IF(G10=35,9,IF(G10=36,8,IF(G10=37,7,IF(G10=38,6,IF(G10=39,5,IF(G10=40,4,IF(G10=41,3,IF(G10=42,2,IF(G10=43,1,IF(G10=0,0,IF(G10>43,1,IF(G10=0,))))))))))))))))))))))))))))))))))))))))))))))","v":50}]
[6,{"$f":"'БОШ-Девушки - Личники'!B11","v":"Краснова Елена"},{"$f":"'БОШ-Девушки - Личники'!C11","v":12},{"$f":"'БОШ-Девушки - Личники'!D11","v":"МБОУ «СОШ №3»"},{"$f":"'БОШ-Девушки - Личники'!I11","v":50}]
[7,{"$f":"'БОШ-Девушки - Личники'!B12","v":"Антонова Амина"},{"$f":"'БОШ-Девушки - Личники'!C12","v":21},{"$f":"'БОШ-Девушки - Личники'!D12","v":"МБОУ «СОШ №4»"},{"$f":"'БОШ-Девушки - Личники'!I12","v":47},{"$f":"'БОШ-Девушки - Личники'!I12+'БОШ-Девушки - Личники'!I13","v":91},{"$f":"RANK(F12,F$6:F$15,)","v":2},{"$f":"IF(G12=1,50,IF(G12=2,47,IF(G12=3,44,IF(G12=4,42,IF(G12=5,40,IF(G12=6,38,IF(G12=7,37,IF(G12=8,36,IF(G12=9,35,IF(G12=10,34,IF(G12=11,33,IF(G12=12,32,IF(G12=13,31,IF(G12=14,30,IF(G12=15,29,IF(G12=16,28,IF(G12=17,27,IF(G12=18,26,IF(G12=19,25,IF(G12=20,24,IF(G12=21,23,IF(G12=22,22,IF(G12=23,21,IF(G12=24,20,IF(G12=25,19,IF(G12=26,18,IF(G12=27,17,IF(G12=28,16,IF(G12=29,15,IF(G12=30,14,IF(G12=31,13,IF(G12=32,12,IF(G12=33,11,IF(G12=34,10,IF(G12=35,9,IF(G12=36,8,IF(G12=37,7,IF(G12=38,6,IF(G12=39,5,IF(G12=40,4,IF(G12=41,3,IF(G12=42,2,IF(G12=43,1,IF(G12=0,0,IF(G12>43,1,IF(G12=0,))))))))))))))))))))))))))))))))))))))))))))))","v":47}]
[8,{"$f":"'БОШ-Девушки - Личники'!B13","v":"Антонова Лиана"},{"$f":"'БОШ-Девушки - Личники'!C13","v":22},{"$f":"'БОШ-Девушки - Личники'!D13","v":"МБОУ «СОШ №4»"},{"$f":"'БОШ-Девушки - Личники'!I13","v":44}]
[9,{"$f":"'БОШ-Девушки - Личники'!B14","v":"Ялалова Нурида"},{"$f":"'БОШ-Девушки - Личники'!C14","v":25},{"$f":"'БОШ-Девушки - Личники'!D14","v":"ГАПОУ «Мамадышский ПК»"},{"$f":"'БОШ-Девушки - Личники'!I14","v":40},{"$f":"'БОШ-Девушки - Личники'!I14+'БОШ-Девушки - Личники'!I15","v":40},{"$f":"RANK(F14,F$6:F$15,)","v":5},{"$f":"IF(G14=1,50,IF(G14=2,47,IF(G14=3,44,IF(G14=4,42,IF(G14=5,40,IF(G14=6,38,IF(G14=7,37,IF(G14=8,36,IF(G14=9,35,IF(G14=10,34,IF(G14=11,33,IF(G14=12,32,IF(G14=13,31,IF(G14=14,30,IF(G14=15,29,IF(G14=16,28,IF(G14=17,27,IF(G14=18,26,IF(G14=19,25,IF(G14=20,24,IF(G14=21,23,IF(G14=22,22,IF(G14=23,21,IF(G14=24,20,IF(G14=25,19,IF(G14=26,18,IF(G14=27,17,IF(G14=28,16,IF(G14=29,15,IF(G14=30,14,IF(G14=31,13,IF(G14=32,12,IF(G14=33,11,IF(G14=34,10,IF(G14=35,9,IF(G14=36,8,IF(G14=37,7,IF(G14=38,6,IF(G14=39,5,IF(G14=40,4,IF(G14=41,3,IF(G14=42,2,IF(G14=43,1,IF(G14=0,0,IF(G14>43,1,IF(G14=0,))))))))))))))))))))))))))))))))))))))))))))))","v":40}]
[10,{"$f":"'БОШ-Девушки - Личники'!B15","v":0},{"$f":"'БОШ-Девушки - Личники'!C15","v":0},{"$f":"'БОШ-Девушки - Личники'!D15","v":"ГАПОУ «Мамадышский ПК»"},{"$f":"'БОШ-Девушки - Личники'!I15","v":0}]
[null,{"$f":"'БОШ-ЮНОШИ - Личники'!#REF!","v":{"$error":"#REF!"}},{"$f":"'БОШ-ЮНОШИ - Личники'!#REF!","v":{"$error":"#REF!"}},null,{"$f":"'БОШ-ЮНОШИ - Личники'!I16","v":{"v":0,"d":"0.00"}}]
[null,"Главный судья: Мухаметзянов И.И."]
[null,"Главный секретарь: Платонов В.И."]

{"sheet":"ЮНОШИ - (СОШ)","index":8,"n_rows":34,"n_cols":9,"rows_kept":34,"merged":[[0,1,0,7],[1,1,1,7],[2,5,2,7]]}
[null,"Протокол по легкоатлетическому кроссу в рамках \"Старты надежд\""]
[null,"СЕЛЬСКИЕ школы"]
[null,"18.09.2024",{"$nulls":3},"ЮНОШИ - 1000 м."]
[]
["№ п/п","Фамилия, и.о.","Нагрудной номер","Школа","Старт","Финиш","Резуль-таты","Место","ОЧКИ"]
[1,"Ахметзянов Булат",21,"МБОУ «Нижнеошминская СОШ»","00:00:00","03:12:16",{"$f":"F6-E6","v":"03:12:16"},{"$f":"RANK(G6,G$6:G$31,1)","v":1},{"$f":"IF(H6=1,50,IF(H6=2,47,IF(H6=3,44,IF(H6=4,42,IF(H6=5,40,IF(H6=6,38,IF(H6=7,37,IF(H6=8,36,IF(H6=9,35,IF(H6=10,34,IF(H6=11,33,IF(H6=12,32,IF(H6=13,31,IF(H6=14,30,IF(H6=15,29,IF(H6=16,28,IF(H6=17,27,IF(H6=18,26,IF(H6=19,25,IF(H6=20,24,IF(H6=21,23,IF(H6=22,22,IF(H6=23,21,IF(H6=24,20,IF(H6=25,19,IF(H6=26,18,IF(H6=27,17,IF(H6=28,16,IF(H6=29,15,IF(H6=30,14,IF(H6=31,13,IF(H6=32,12,IF(H6=33,11,IF(H6=34,10,IF(H6=35,9,IF(H6=36,8,IF(H6=37,7,IF(H6=38,6,IF(H6=39,5,IF(H6=40,4,IF(H6=41,3,IF(H6=42,2,IF(H6=43,1,IF(H6=0,0,IF(H6>43,1,IF(H6=0,))))))))))))))))))))))))))))))))))))))))))))))","v":50}]
[2,"Сергеев Сергей",24,"МБОУ «Шадчинская СОШ»","00:00:00","3.16.98","3.16.98",2,47]
[3,"Нургалиев Ильнур",23,"МБОУ «Усалинская СОШ»","00:00:00","3.17.81","3.17.81",3,44]
[4,"Ганиев Раяз",41,"МБОУ «Олуязский лицей»","00:00:00","3.23.84","3.23.84",4,42]
[5,"Будылин Антон",19,"МБОУ «Тавельская СОШ»","00:00:00","03:25:23",{"$f":"F10-E10","v":"03:25:23"},5,40]
[6,"Абдуллин Расих",39,"МБОУ «Нижнеошминская СОШ»","00:00:00","03:31:02",{"$f":"F11-E11","v":"03:31:02"},6,38]
[7,"Заляев Камиль",26,"МБОУ «Олуязский лицей»","00:00:00","3.31.75","3.31.75",7,37]
[8,"Пустобаев Кирилл",42,"МБОУ «Сокольская СОШ»","00:00:00","3.39.73","3.39.73",8,36]
[9,"Лопанов Вадим",22,"МБОУ «Кляушская СОШ»","00:00:00","03:43:40",{"$f":"F14-E14","v":"03:43:40"},9,35]
[10,"Ганеев Анвар",17,"МБОУ «Нижнесуньская СОШ»","00:00:00","03:45:31",{"$f":"F15-E15","v":"03:45:31"},10,34]
[11,"Хабибуллин Ильназ",37,"МБОУ «Зверосовхозская СОШ»","00:00:00","3.50.60","3.50.60",11,33]
[12,"Петров Роман",35,"МБОУ «Дюсьметьевская СОШ»","00:00:00","3.51.89","3.51.89",12,32]
[13,"Антонов Богдан",29,"МБОУ «Шадчинская СОШ»","00:00:00","03:52:25",{"$f":"F18-E18","v":"03:52:25"},13,31]
[14,"Гридчин Илья",28,"МБОУ «Кляушская СОШ»","00:00:00","03:52:30",{"$f":"F19-E19","v":"03:52:30"},14,30]
[15,"Галеев Динар",18,"МБОУ «Усалинская СОШ»","00:00:00","4.00.99","4.00.99",15,29]
[16,"Ахметгалеев Данил",36,"МБОУ «Нижнеякинская СОШ»","00:00:00","4.01.83","4.01.83",16,28]
[17,"Яппаров Ильяс",25,"МБОУ «Таканышская СОШ»","00:00:00","04:10:38",{"$f":"F22-E22","v":"04:10:38"},17,27]
[18,"Абузаров Ильназ",12,"МБОУ «Зюринская СОШ»","00:00:00","4.10.96","4.10.96",18,26]
[19,"Каменщиков Артур",30,"МБОУ «Таканышская СОШ»","00:00:00","04:14:15",{"$f":"F24-E24","v":"04:14:15"},19,25]
[20,"Ефимов Никита",40,"МБОУ «Зверосовхозская СОШ»","00:00:00","4.14.61","4.14.61",20,24]
[21,"Семенов Ярослав",32,"МБОУ «Зюринская СОШ»","00:00:00","04:17:42",{"$f":"F26-E26","v":"04:17:42"},21,23]
[22,"Гасимов Илвир",38,"МБОУ «Нижнеякинская СОШ»","00:00:00","04:19:45",{"$f":"F27-E27","v":"04:19:45"},22,22]
[23,"Степанов Анатолий",14,"МБОУ «Дюсьметьевская СОШ»","00:00:00","04:25:24",{"$f":"F28-E28","v":"04:25:24"},23,21]
[24,"Дегтярев Алексей",15,"МБОУ «Тавельская СОШ»","00:00:00","4.53.66","4.53.66",24,20]
[25,"Максимов Николай",16,"МБОУ «Сокольская СОШ»","00:00:00","5.10.61","5.10.61",25,19]
[26,"Гараев Айрат",33,"МБОУ «Куюк-Ерыксинская СОШ»","00:00:00","07:25:14",{"$f":"F31-E31","v":"07:25:14"},26,18]
[]
[null,"Главный судья: Мухаметзянов И.И."]
[null,"Главный секретарь: Платонов В.И."]

{"sheet":"ДЕВ - (СОШ)","index":9,"n_rows":33,"n_cols":8,"rows_kept":33,"merged":[[0,1,0,6],[1,1,1,6]]}
[null,"Протокол по легкоатлетическому кроссу в рамках \"Старты надежд\""]
[null,"СЕЛЬСКИЕ школы"]
[null,"18.09.2024",{"$nulls":3},"ДЕВУШКИ - 500 м."]
[]
["№ п/п","Фамилия, и.о.","Нагрудной номер","Школа","Старт","Финиш","Место","ОЧКИ"]
[1,"Мингазова Рузиля",24,"МБОУ «Шадчинская СОШ»","00:00:00","1.36.24",1,{"$f":"IF(G6=1,50,IF(G6=2,47,IF(G6=3,44,IF(G6=4,42,IF(G6=5,40,IF(G6=6,38,IF(G6=7,37,IF(G6=8,36,IF(G6=9,35,IF(G6=10,34,IF(G6=11,33,IF(G6=12,32,IF(G6=13,31,IF(G6=14,30,IF(G6=15,29,IF(G6=16,28,IF(G6=17,27,IF(G6=18,26,IF(G6=19,25,IF(G6=20,24,IF(G6=21,23,IF(G6=22,22,IF(G6=23,21,IF(G6=24,20,IF(G6=25,19,IF(G6=26,18,IF(G6=27,17,IF(G6=28,16,IF(G6=29,15,IF(G6=30,14,IF(G6=31,13,IF(G6=32,12,IF(G6=33,11,IF(G6=34,10,IF(G6=35,9,IF(G6=36,8,IF(G6=37,7,IF(G6=38,6,IF(G6=39,5,IF(G6=40,4,IF(G6=41,3,IF(G6=42,2,IF(G6=43,1,IF(G6=0,0,IF(G6>43,1,IF(G6=0,))))))))))))))))))))))))))))))))))))))))))))))","v":50}]
[2,"Домнина Розанна",27,"МБОУ «Нижнесуньская СОШ»","00:00:00","1.38.81",2,47]
[3,"Трушова Арина",29,"МБОУ «Нижнесуньская СОШ»","00:00:00","1.39.50",3,44]
[4,"Мубаракшина Эльмира",23,"МБОУ «Шадчинская СОШ»","00:00:00","1.40.35",4,42]
[5,"Вятская Лиана",28,"МБОУ «Зюринская СОШ»","00:00:00","1.44.36",5,40]
[6,"Очилова Азалия",37,"МБОУ «Тавельская СОШ»","00:00:00","1.45.00",6,38]
[7,"Федотова Диана",35,"МБОУ «Тавельская СОШ»","00:00:00","1.46.65",7,37]
[8,"Фатихова Камиля",30,"МБОУ «Нижнеошминская СОШ»","00:00:00","1.46.80",8,36]
[9,"Абдуллина Софья",25,"МБОУ «Нижнеошминская СОШ»","00:00:00","1.47.19",9,35]
[10,"Гилаева Лейсан ",26,"МБОУ «Зюринская СОШ»","00:00:00","1.47.94",10,34]
[11,"Гаптрахимова Зиля",21,"МБОУ «Нижнеякинская СОШ»","00:00:00","1.50.96",11,33]
[12,"Григорьева Кристина",16,"МБОУ «Дюсьметьевская СОШ»","00:00:00","1.55.01",12,32]
[13,"Рюмочкина Милана",12,"МБОУ «Зверосовхозская СОШ»","00:00:00","1.58.20",13,31]
[14,"Лопанова Екатерина",33,"МБОУ «Кляушская СОШ»","00:00:00","2.00.59",14,30]
[15,"Каримова Ирка",15,"МБОУ «Нижнеякинская СОШ»","00:00:00","2.02.32",15,29]
[16,"Гайнуллина Дина",36,"МБОУ «Таканышская СОШ»","00:00:00","2.02.40",16,28]
[17,"Садикова Алина",14,"МБОУ «Куюк-Ерыксинская СОШ»","00:00:00","2.02.92",17,27]
[18,"Максимова Валерия",39,"МБОУ «Сокольская СОШ»","00:00:00","2.03.05",18,26]
[19,"Султангараева Гузель",19,"МБОУ «Дюсьметьевская СОШ»","00:00:00","2.04.05",19,25]
[20,"Никитина Серафима",17,"МБОУ «Кляушская СОШ»","00:00:00","2.06.78",20,24]
[21,"Хамитова Алия",42,"МБОУ «Таканышская СОШ»","00:00:00","2.09.44",21,23]
[22,"Мубаракшина Алиса",40,"МБОУ «Олуязский лицей»","00:00:00","2.11.09",22,22]
[23,"Валеева Айгуль",32,"МБОУ «Зверосовхозская СОШ»","00:00:00","2.17.29",23,21]
[24,"Загирова Диляра",22,"МБОУ «Олуязский лицей»","00:00:00","2.19.86",24,20]
[25,"Суханова Арина",38,"МБОУ «Сокольская СОШ»","00:00:00","2.30.43",25,19]
[]
[null,"Главный судья: Мухаметзянов И.И."]
[null,"Главный секретарь: Платонов В.И."]

{"sheet":"ЮНОШИ - (ООШ)","index":10,"n_rows":15,"n_cols":8,"rows_kept":15,"merged":[[0,1,0,6],[1,1,1,6],[2,5,2,6]]}
[null,"Протокол по легкоатлетическому кроссу в рамках \"Старты надежд\""]
[null,"ОСНОВНЫЕ школы"]
[null,"18.09.2024",{"$nulls":3},"ЮНОШИ - 1000 м."]
[]
["№ п/п","Фамилия, и.о.","Нагр-й номер","Школа","Старт","Финиш","Место","ОЧКИ"]
[1,"Галиуллин Юсуф",50,"МБОУ «Малосуньская ООШ»","00:00:00","3.40.08",1,{"$f":"IF(G6=1,50,IF(G6=2,47,IF(G6=3,44,IF(G6=4,42,IF(G6=5,40,IF(G6=6,38,IF(G6=7,37,IF(G6=8,36,IF(G6=9,35,IF(G6=10,34,IF(G6=11,33,IF(G6=12,32,IF(G6=13,31,IF(G6=14,30,IF(G6=15,29,IF(G6=16,28,IF(G6=17,27,IF(G6=18,26,IF(G6=19,25,IF(G6=20,24,IF(G6=21,23,IF(G6=22,22,IF(G6=23,21,IF(G6=24,20,IF(G6=25,19,IF(G6=26,18,IF(G6=27,17,IF(G6=28,16,IF(G6=29,15,IF(G6=30,14,IF(G6=31,13,IF(G6=32,12,IF(G6=33,11,IF(G6=34,10,IF(G6=35,9,IF(G6=36,8,IF(G6=37,7,IF(G6=38,6,IF(G6=39,5,IF(G6=40,4,IF(G6=41,3,IF(G6=42,2,IF(G6=43,1,IF(G6=0,0,IF(G6>43,1,IF(G6=0,))))))))))))))))))))))))))))))))))))))))))))))","v":50}]
[2,"Хазиев Амир",49,"МБОУ «Кемеш-Кульская ООШ»","00:00:00","3.56.27",2,47]
[3,"Гарифуллин Фанзиль",19,"МБОУ «Кемеш-Кульская ООШ»","00:00:00","4.03.80",3,44]
[4,"Шестеркин Егор",23,"МБОУ «Омарская СОШ»","00:00:00","4.09.25",4,42]
[5,"Антонов Эмильян",25,"ГБОУ «Мамадышская школа-интернат»","00:00:00","4.14.76",5,40]
[6,"Булашов Егор",21,"МБОУ «Омарская СОШ»","00:00:00","4.22.79",6,38]
[7,"Рожков Радмир",27,"ГБОУ «Мамадышская школа-интернат»","00:00:00","4.25.34",7,37]
[]
[null,"Главный судья: Мухаметзянов И.И."]
[null,"Главный секретарь: Платонов В.И."]

{"sheet":"Дев. - (ООШ)","index":11,"n_rows":15,"n_cols":8,"rows_kept":15,"merged":[[0,1,0,6],[1,1,1,6]]}
[null,"Протокол по легкоатлетическому кроссу в рамках \"Старты надежд\""]
[null,"ОСНОВНЫЕ школы"]
[null,"18.09.2024",{"$nulls":3},"ДЕВУШКИ - 500 м."]
[]
["№ п/п","Фамилия, и.о.","Нагр-й номер","Школа","Старт","Финиш","Место","ОЧКИ"]
[1,"Салахова Нурзиля",50,"МБОУ «Малосуньская ООШ»","00:00:00","1.42.48",1,{"$f":"IF(G6=1,50,IF(G6=2,47,IF(G6=3,44,IF(G6=4,42,IF(G6=5,40,IF(G6=6,38,IF(G6=7,37,IF(G6=8,36,IF(G6=9,35,IF(G6=10,34,IF(G6=11,33,IF(G6=12,32,IF(G6=13,31,IF(G6=14,30,IF(G6=15,29,IF(G6=16,28,IF(G6=17,27,IF(G6=18,26,IF(G6=19,25,IF(G6=20,24,IF(G6=21,23,IF(G6=22,22,IF(G6=23,21,IF(G6=24,20,IF(G6=25,19,IF(G6=26,18,IF(G6=27,17,IF(G6=28,16,IF(G6=29,15,IF(G6=30,14,IF(G6=31,13,IF(G6=32,12,IF(G6=33,11,IF(G6=34,10,IF(G6=35,9,IF(G6=36,8,IF(G6=37,7,IF(G6=38,6,IF(G6=39,5,IF(G6=40,4,IF(G6=41,3,IF(G6=42,2,IF(G6=43,1,IF(G6=0,0,IF(G6>43,1,IF(G6=0,))))))))))))))))))))))))))))))))))))))))))))))","v":50}]
[2,"Закиева Зухра",49,"МБОУ «Кемеш-Кульская ООШ»","00:00:00","1.57.95",2,47]
[3,"Гарипова Зиля",19,"МБОУ «Кемеш-Кульская ООШ»","00:00:00","1.58.34",3,44]
[4,"Фоминова Алена ",41,"ГБОУ «Мамадышская школа-интернат»","00:00:00","2.01.75",4,42]
[5,"Ванишнина Ирина",27,"ГБОУ «Мамадышская школа-интернат»","00:00:00","2.02.90",5,40]
[6,"Мартынова Марина",21,"МБОУ «Омарская СОШ»","00:00:00","2.04.65",6,38]
[7,"Балякина Татьяна",23,"МБОУ «Омарская СОШ»","00:00:00","2.05.58",7,37]
[]
[null,"Главный судья: Мухаметзянов И.И."]
[null,"Главный секретарь: Платонов В.И."]